BEGIN:VCALENDAR
VERSION:2.0
PRODID:-//ChamberMaster//Event Calendar 2.0//EN
METHOD:PUBLISH
X-PUBLISHED-TTL:P3D
REFRESH-INTERVAL:P3D
CALSCALE:GREGORIAN
BEGIN:VEVENT
DTSTART:20240705T143000Z
DTEND:20240705T203000Z
X-MICROSOFT-CDO-ALLDAYEVENT:FALSE
SUMMARY:2024 Independence Weekend Blood Drive
DESCRIPTION:Each pint of blood we collect can help save up to three lives and will touch the lives of so many more. What a great way to pay it forward and make an impact on people in our community and across the country. We are very excited about the drive and I hope you are too.\n\nThe Red Cross umbrella is our gift to donors while supplies last.\n\nEarlier time so you can still get away for the weekend!
X-ALT-DESC;FMTTYPE=text/html:<span style="color:rgb(20\, 24\, 39)\; font-family:helvetica neue\,helvetica\,-apple-system\,blinkmacsystemfont\,roboto\,arial\,sans-serif\; font-size:18px">Each pint of blood we collect can help save up to three lives and will touch the lives of so many more. What a great way to pay it forward and make an impact on people in our community and across the country. We are very excited about the drive and I hope you are too.<br />\nThe Red Cross umbrella is our gift to donors while supplies last.<br />\nEarlier time so you can still get away for the weekend!</span>
LOCATION:Heartwood Church 6477 10th St. N. Oakdale\, MN 55128
UID:e.1884.1436
SEQUENCE:3
DTSTAMP:20260422T154525Z
URL:https://business.oakdaleareachamber.org/events/details/2024-independence-weekend-blood-drive-1436
END:VEVENT

END:VCALENDAR
