BEGIN:VCALENDAR
VERSION:2.0
PRODID:-//ChamberMaster//Event Calendar 2.0//EN
METHOD:PUBLISH
X-PUBLISHED-TTL:P3D
REFRESH-INTERVAL:P3D
CALSCALE:GREGORIAN
BEGIN:VEVENT
DTSTART:20251014T140000Z
DTEND:20251014T170000Z
X-MICROSOFT-CDO-ALLDAYEVENT:FALSE
SUMMARY:Career Connect Day
DESCRIPTION:Be a an employer vendor or volunteer at the St. Paul Area Chamber's 4th annual Career Connect Day. This career exploration event hosts nearly 2\,000 high school students who are eager to learn more about career opportunities that await them. REGISTER to participate or SIGN UP to volunteer today!
X-ALT-DESC;FMTTYPE=text/html:Be a an employer vendor or volunteer at the St. Paul Area Chamber&#39\;s 4th annual Career Connect Day. This career exploration event hosts nearly 2\,000 high school students who are eager to learn more about career opportunities that await them. <a href="https://www.stpaulchamber.com/careerconnect.html">REGISTER </a>to participate or <a href="https://www.signupgenius.com/go/70A044FACAF23ABF94-58531411-career#/">SIGN UP</a> to volunteer today!
LOCATION:St. Paul RiverCentre St. Paul\, MN
UID:e.1884.1550
SEQUENCE:3
DTSTAMP:20260419T222133Z
URL:https://business.oakdaleareachamber.org/events/details/career-connect-day-1550
END:VEVENT

END:VCALENDAR
