BEGIN:VCALENDAR
VERSION:2.0
PRODID:-//ChamberMaster//Event Calendar 2.0//EN
METHOD:PUBLISH
X-PUBLISHED-TTL:P3D
REFRESH-INTERVAL:P3D
CALSCALE:GREGORIAN
BEGIN:VEVENT
DTSTART;VALUE=DATE:20251008
DTEND;VALUE=DATE:20251009
TRANSP:TRANSPARENT
X-MICROSOFT-CDO-ALLDAYEVENT:TRUE
SUMMARY:Estoria Cooperative Oak Marsh Groundbreaking Celebration
DESCRIPTION:Please join us for the Estoria Oak Marsh Cooperative Community Groundbreaking Ceremony!\n\nOn behalf of the Estoria Oak Marsh Cooperative Community\, it is our pleasure to invite you to the groundbreaking ceremony of our new senior living community for 62+ adults.\n\n\n\nThe event will feature a brief program\, followed by lunch at the Oak Marsh Golf Course. The Estoria team and members look forward to commemorating the start of this next chapter.
X-ALT-DESC;FMTTYPE=text/html:Please join us for the Estoria Oak Marsh Cooperative Community Groundbreaking Ceremony!<br />\nOn behalf of the Estoria Oak Marsh Cooperative Community\, it is our pleasure to invite you to the groundbreaking ceremony of our new senior living community for 62+ adults.<br />\n<br />\nThe event will feature a brief program\, followed by lunch at the Oak Marsh Golf Course. The Estoria team and members look forward to commemorating the start of this next chapter.
LOCATION:Oak Meadows Senior Living\, adjacent to the Estoria Oak Marsh construction site. You may park at Oak Marsh Golf Course at 526 Inwood Avenue N in Oakdale for shuttle service to event. Please plan on arriving by 10am.
UID:e.1884.1548
SEQUENCE:3
DTSTAMP:20260420T000223Z
URL:https://business.oakdaleareachamber.org/events/details/estoria-cooperative-oak-marsh-groundbreaking-celebration-1548
END:VEVENT

END:VCALENDAR
