BEGIN:VCALENDAR
VERSION:2.0
PRODID:-//ChamberMaster//Event Calendar 2.0//EN
METHOD:PUBLISH
X-PUBLISHED-TTL:P3D
REFRESH-INTERVAL:P3D
CALSCALE:GREGORIAN
BEGIN:VEVENT
DTSTART:20251030T160000Z
DTEND:20251030T220000Z
X-MICROSOFT-CDO-ALLDAYEVENT:FALSE
SUMMARY:Fall 2025 Red Cross Blood Drive
DESCRIPTION:Get in the spirit of saving lives! Join the community Red Cross blood drive at Heartwood Church.\nThis fall season\, your donation can help harvest hope for patients in need. Get into the spirit: Schedule your blood\, platelet or AB Elite plasma donation today.\n\nCome to give blood\, platelets or AB Elite plasma Oct. 20-Nov. 16\, 2025 and you'll get a $10 e-gift card to the merchant of your choice.* Plus\, as an extra thank-you\, you'll automatically be entered for a chance to win one of three $5\,000 gift cards!^^ It's our way of saying\, "Thanks for giving!"
X-ALT-DESC;FMTTYPE=text/html:<span style="color:rgb(53\, 53\, 53)\; font-family:source sans pro\,sans-serif\; font-size:17px">Get in the spirit of saving lives! Join the community Red Cross blood drive at Heartwood Church.</span>\n<p>This fall season\, your donation can help harvest hope for patients in need. Get into the spirit:&nbsp\;<a href="https://www.redcrossblood.org/give.html/drive-results?zipSponsor=heartwood" style="box-sizing: border-box\; color: rgb(0\, 124\, 175)\; text-decoration-line: none\; background-color: transparent\; touch-action: manipulation\;"><strong>Schedule your blood\, platelet or AB Elite plasma donation today.</strong></a></p>\n\n<p>Come to give blood\, platelets or AB Elite plasma Oct. 20-Nov. 16\, 2025 and you&rsquo\;ll get a&nbsp\;<strong>$10 e-gift card</strong>&nbsp\;to the merchant of your choice.<a href="https://www.redcrossblood.org/local-homepage/events/harvest.html">*</a> Plus\, as an extra thank-you\, you&rsquo\;ll automatically be entered for a&nbsp\;<strong>chance to win one of three $5\,000 gift cards!</strong><a href="https://www.redcrossblood.org/local-homepage/events/harvest.html">^^</a> It&rsquo\;s our way of saying\,&nbsp\;<strong>&ldquo\;Thanks for giving!&rdquo\;</strong></p>\n
LOCATION:Heartwood Church 6477 10th St. N. Oakdale\, MN 55128
UID:e.1884.1542
SEQUENCE:3
DTSTAMP:20260419T221515Z
URL:https://business.oakdaleareachamber.org/events/details/fall-2025-red-cross-blood-drive-1542
END:VEVENT

END:VCALENDAR
