BEGIN:VCALENDAR
VERSION:2.0
PRODID:-//ChamberMaster//Event Calendar 2.0//EN
METHOD:PUBLISH
X-PUBLISHED-TTL:P3D
REFRESH-INTERVAL:P3D
CALSCALE:GREGORIAN
BEGIN:VEVENT
DTSTART:20260108T171500Z
DTEND:20260108T190000Z
X-MICROSOFT-CDO-ALLDAYEVENT:FALSE
SUMMARY:General Meeting
DESCRIPTION:Join us for a Chamber Lunch celebrating Holiday Helping Hands and their incredible work providing gifts to 400 local children. Hear directly from Tartan Student Council students as they share what volunteering meant to them and how giving back is shaping the next generation of leaders.\n\n\n\nNote: We are expecting several extra guests for this meeting\, so in an effort to have enough food for everyone\, we ask you to please register by 01/06.
X-ALT-DESC;FMTTYPE=text/html:Join us for a Chamber Lunch celebrating <strong data-end="185" data-start="144">Holiday Helping Hands</strong> and their incredible work providing gifts to 400 local children. Hear directly from Tartan Student Council students as they share what volunteering meant to them and how giving back is shaping the next generation of leaders.<br />\n<br />\nNote: We are expecting several extra guests for this meeting\, so in an effort to have enough food for everyone\, we ask you to please register by 01/06.
LOCATION:Oak Marsh Golf and Event Center 526 Inwood Ave.\, North Oakdale\, MN 55128
UID:e.1884.1478
SEQUENCE:3
DTSTAMP:20260419T145017Z
URL:https://business.oakdaleareachamber.org/events/details/general-meeting-01-01-2026-1478
END:VEVENT

END:VCALENDAR
