BEGIN:VCALENDAR
VERSION:2.0
PRODID:-//ChamberMaster//Event Calendar 2.0//EN
METHOD:PUBLISH
X-PUBLISHED-TTL:P3D
REFRESH-INTERVAL:P3D
CALSCALE:GREGORIAN
BEGIN:VEVENT
DTSTART:20260305T171500Z
DTEND:20260305T190000Z
X-MICROSOFT-CDO-ALLDAYEVENT:FALSE
SUMMARY:General Meeting
DESCRIPTION:Focus: The Current State of International Business\n\nChad Carney Vice President- Personal Safety Division at 3M\n\nChad earned his MBA from the University of MN Carlson School of Management and has been with 3M for 26+ years.
X-ALT-DESC;FMTTYPE=text/html:Focus: The Current State of International Business<br />\nChad Carney Vice President- Personal Safety Division at 3M<br />\nChad earned his MBA from the University of MN Carlson School of Management and has been with 3M for 26+ years.<br />\n<br />\n<br />\n&nbsp\;
LOCATION:Oak Marsh Golf Course 526 Inwood Ave N Oakdale\, MN 55128
UID:e.1884.1480
SEQUENCE:3
DTSTAMP:20260419T214215Z
URL:https://business.oakdaleareachamber.org/events/details/general-meeting-03-05-2026-1480
END:VEVENT

END:VCALENDAR
