BEGIN:VCALENDAR
VERSION:2.0
PRODID:-//ChamberMaster//Event Calendar 2.0//EN
METHOD:PUBLISH
X-PUBLISHED-TTL:P3D
REFRESH-INTERVAL:P3D
CALSCALE:GREGORIAN
BEGIN:VEVENT
DTSTART:20260604T161500Z
DTEND:20260604T180000Z
X-MICROSOFT-CDO-ALLDAYEVENT:FALSE
SUMMARY:General Meeting
DESCRIPTION:
X-ALT-DESC;FMTTYPE=text/html:
LOCATION:St. Croix Event Center 5880 Omaha Ave N Stillwater\, MN 55082
UID:e.1884.1483
SEQUENCE:3
DTSTAMP:20260419T195820Z
URL:https://business.oakdaleareachamber.org/events/details/general-meeting-06-04-2026-1483
END:VEVENT

END:VCALENDAR
