BEGIN:VCALENDAR
VERSION:2.0
PRODID:-//ChamberMaster//Event Calendar 2.0//EN
METHOD:PUBLISH
X-PUBLISHED-TTL:P3D
REFRESH-INTERVAL:P3D
CALSCALE:GREGORIAN
BEGIN:VEVENT
DTSTART:20251002T161500Z
DTEND:20251002T180000Z
X-MICROSOFT-CDO-ALLDAYEVENT:FALSE
SUMMARY:General Meeting
DESCRIPTION:Renee Boehme is the Executive Director of Corrie's House\, a nonprofit providing trauma-informed care for young girls who are survivors of domestic sex trafficking. With 25+ years of experience in the medical device industry\, she brings expertise in building trusted relationships\, leading with integrity\, and driving innovative solutions that improve lives. She is passionate about serving vulnerable and marginalized communities and now oversees Corrie's House's strategic planning\, fundraising\, and operations.
X-ALT-DESC;FMTTYPE=text/html:Renee Boehme&nbsp\;is the Executive Director of Corrie&rsquo\;s House\, a nonprofit providing trauma-informed care for young girls who are survivors of domestic sex trafficking. With 25+ years of experience in the medical device industry\, she brings expertise in building trusted relationships\, leading with integrity\, and driving innovative solutions that improve lives. She is passionate about serving vulnerable and marginalized communities and now oversees Corrie&rsquo\;s House&rsquo\;s strategic planning\, fundraising\, and operations.
LOCATION:Lake Elmo Event Center 3712 Layton Ave N Lake Elmo\, MN 55042
UID:e.1884.1475
SEQUENCE:3
DTSTAMP:20260419T222458Z
URL:https://business.oakdaleareachamber.org/events/details/general-meeting-10-02-2025-1475
END:VEVENT

END:VCALENDAR
