BEGIN:VCALENDAR
VERSION:2.0
PRODID:-//ChamberMaster//Event Calendar 2.0//EN
METHOD:PUBLISH
X-PUBLISHED-TTL:P3D
REFRESH-INTERVAL:P3D
CALSCALE:GREGORIAN
BEGIN:VEVENT
DTSTART:20250206T171500Z
DTEND:20250206T190000Z
X-MICROSOFT-CDO-ALLDAYEVENT:FALSE
SUMMARY:General Meeting
DESCRIPTION:They Love Me? They Love Me Not?\n\n\n\nHelping aging loved ones transition out of their homes with dignity and care.\n\n\n\nPresented by Larry Eberhard and Tony Schwartz
X-ALT-DESC;FMTTYPE=text/html:<span style="font-family: arial\; font-size: 14px\;"><span style="font-size:16px\;"><strong>They Love Me? They Love Me Not?</strong></span><br />\n<br />\nHelping aging loved ones transition out of their homes with dignity and care.<br />\n<br />\nPresented by Larry Eberhard and Tony Schwartz</span>
LOCATION:Oak Marsh Golf Course 526 Inwood Ave N Oakdale\, MN 55128
UID:e.1884.1467
SEQUENCE:3
DTSTAMP:20260419T144614Z
URL:https://business.oakdaleareachamber.org/events/details/general-meeting-1467
END:VEVENT

END:VCALENDAR
