BEGIN:VCALENDAR
VERSION:2.0
PRODID:-//ChamberMaster//Event Calendar 2.0//EN
METHOD:PUBLISH
X-PUBLISHED-TTL:P3D
REFRESH-INTERVAL:P3D
CALSCALE:GREGORIAN
BEGIN:VEVENT
DTSTART:20260205T173000Z
DTEND:20260205T200000Z
X-MICROSOFT-CDO-ALLDAYEVENT:FALSE
SUMMARY:General Meeting
DESCRIPTION:Note: This event will differ from our typical general meeting agenda.\n\nLunch and Learn - AI in Action: What artificial intelligence can do for your business\n\nSarah Carrico (Moderator)\n\nPanelists: Clare Forstie\, Heidi Johnson\, Sonya Zuker\, Mindy Travers
X-ALT-DESC;FMTTYPE=text/html:Note: This event will differ from our typical general meeting agenda.<br />\nLunch and Learn - AI in Action: What artificial intelligence can do for your business<br />\nSarah Carrico (Moderator)<br />\nPanelists: Clare Forstie\, Heidi Johnson\, Sonya Zuker\, Mindy Travers<br />\n&nbsp\;
LOCATION:Oak Marsh Event Center 526 Inwood Ave. North Oakdale\, MN 55128
UID:e.1884.1558
SEQUENCE:3
DTSTAMP:20260419T195712Z
URL:https://business.oakdaleareachamber.org/events/details/general-meeting-1558
END:VEVENT

END:VCALENDAR
