BEGIN:VCALENDAR
VERSION:2.0
PRODID:-//ChamberMaster//Event Calendar 2.0//EN
METHOD:PUBLISH
X-PUBLISHED-TTL:P3D
REFRESH-INTERVAL:P3D
CALSCALE:GREGORIAN
BEGIN:VEVENT
DTSTART:20251014T130000Z
DTEND:20251014T140000Z
X-MICROSOFT-CDO-ALLDAYEVENT:FALSE
SUMMARY:Coffee & Commerce
DESCRIPTION:Come join us at Oakdale's Ember & Bean coffee shop for some morning connections & networking!\n\nKick off your day with some great relationships & amazing coffee.\n\n\n\nCoffee & Commerce will be held at this location every second Tuesday of the month from 8-9am.\n\n\n\nBring a friend & see you there!
X-ALT-DESC;FMTTYPE=text/html:Come join us at Oakdale&#39\;s Ember &amp\; Bean coffee shop for some morning connections &amp\; networking!<br />\nKick off your day with some great relationships &amp\; amazing coffee.<br />\n<br />\nCoffee &amp\; Commerce will be held at this location every second Tuesday of the month from 8-9am.<br />\n<br />\nBring a friend &amp\; see you there!
LOCATION:Ember & Bean Roasting Co 7600 2nd St. N Ste B\, Oakdale\, MN 55128
UID:e.1884.1515
SEQUENCE:3
DTSTAMP:20260420T000233Z
URL:https://business.oakdaleareachamber.org/events/details/good-morning-oakdale-10-07-2025-1515
END:VEVENT

END:VCALENDAR
