BEGIN:VCALENDAR
VERSION:2.0
PRODID:-//ChamberMaster//Event Calendar 2.0//EN
METHOD:PUBLISH
X-PUBLISHED-TTL:P3D
REFRESH-INTERVAL:P3D
CALSCALE:GREGORIAN
BEGIN:VEVENT
DTSTART:20250204T140000Z
DTEND:20250204T150000Z
X-MICROSOFT-CDO-ALLDAYEVENT:FALSE
SUMMARY:Good Morning Oakdale
DESCRIPTION:Come join us at Oakdale's Ember & Bean coffee shop for some morning connections & networking!\n\nKick off your day with some great relationships & amazing coffee.\n\n\n\nGood Morning Oakdale will be held at this location every first Tuesday of the month from 8-9am.\n\n\n\nBring a friend & see you there!
X-ALT-DESC;FMTTYPE=text/html:Come join us at Oakdale&rsquo\;s Ember &amp\; Bean coffee shop for some morning connections &amp\; networking!<br />\nKick off your day with some great relationships &amp\; amazing coffee.<br />\n<br />\nGood Morning Oakdale will be held at this location every first Tuesday of the month from 8-9am.<br />\n<br />\nBring a friend &amp\; see you there!
LOCATION:Ember & Bean Roasting Co 7600 2nd St. N Ste B\, Oakdale\, MN 55128
UID:e.1884.1494
SEQUENCE:3
DTSTAMP:20260419T144844Z
URL:https://business.oakdaleareachamber.org/events/details/good-morning-oakdale-1494
END:VEVENT

END:VCALENDAR
