BEGIN:VCALENDAR
VERSION:2.0
PRODID:-//ChamberMaster//Event Calendar 2.0//EN
METHOD:PUBLISH
X-PUBLISHED-TTL:P3D
REFRESH-INTERVAL:P3D
CALSCALE:GREGORIAN
BEGIN:VEVENT
DTSTART:20251024T230000Z
DTEND:20251025T020000Z
X-MICROSOFT-CDO-ALLDAYEVENT:FALSE
SUMMARY:Laughs For Littles
DESCRIPTION:Laughs For Littles\n\nJoin us for a night of big laughs and bigger hearts!\n\nWe are bringing together two top comedians for an unforgettable evening-all to support Carol Matheys Center for Children and Families\, a non profit Preschool and Child Care providing high quality\, affordable early childhood education and a safe\, nurturing space for all children.\n\n6-7 pm Social Hour with hors d'oeuvres and cash bar\n\n7 pm Comedy Show
X-ALT-DESC;FMTTYPE=text/html:<span style="font-size:14px">Laughs For Littles<br />\n<span style="font-size:12px">Join us for a night of big laughs and bigger hearts!<br />\nWe are bringing together two top comedians for an unforgettable evening-all to support Carol Matheys Center for Children and Families\, a non profit Preschool and Child Care providing high quality\, affordable early childhood education and a safe\, nurturing space for all children.<br />\n<strong>6-7 pm Social Hour with hors d&#39\;oeuvres and cash bar</strong><br />\n<strong>7 pm Comedy Show</strong></span></span>
LOCATION:Oak Marsh Golf Course 526 Inwood Ave\, Oakdale MN 55128
UID:e.1884.1547
SEQUENCE:3
DTSTAMP:20260419T221218Z
URL:https://business.oakdaleareachamber.org/events/details/laughs-for-littles-1547
END:VEVENT

END:VCALENDAR
