BEGIN:VCALENDAR
VERSION:2.0
PRODID:-//ChamberMaster//Event Calendar 2.0//EN
METHOD:PUBLISH
X-PUBLISHED-TTL:P3D
REFRESH-INTERVAL:P3D
CALSCALE:GREGORIAN
BEGIN:VEVENT
DTSTART:20260114T160000Z
DTEND:20260114T170000Z
X-MICROSOFT-CDO-ALLDAYEVENT:FALSE
SUMMARY:Living Well: Self-Care & Mindfulness
DESCRIPTION:So often\, self-care and mindfulness take a back seat in our lives\, but these practices are a necessity. Learn new techniques to improve your self-care routine and discover new resources to try. You'll leave with practical strategies you can use immediately to support your well-being and build a stronger foundation for mental health.\n\n\n\nThis event is FREE and open to all\, and hosted at Community Thread in partnership with Stillwater Community Education and NAMI. \n\n\n\nAdvance registration encouraged. Register through Community Education at 651-351-8300 or online at Home - Stillwater Community Education
X-ALT-DESC;FMTTYPE=text/html:<p><span style="background-color:rgb(253\, 254\, 255)\; font-family:google sans\,open sans\,muli\,arial\,sans-serif\; font-size:14px">So often\, self-care and mindfulness take a back seat in our lives\, but these practices are a necessity. Learn new techniques to improve your self-care routine and discover new resources to try. You&#39\;ll leave with practical strategies you can use immediately to support your well-being and build a stronger foundation for mental health.</span><br />\n<br />\n<span style="background-color:rgb(253\, 254\, 255)\; font-family:google sans\,open sans\,muli\,arial\,sans-serif\; font-size:14px">This event is FREE and open to all\, and hosted at Community Thread in partnership with Stillwater Community Education and NAMI.&nbsp\;</span><br />\n<br />\n<span style="background-color:rgb(253\, 254\, 255)\; font-family:google sans\,open sans\,muli\,arial\,sans-serif\; font-size:14px">Advance registration encouraged. Register through Community Education at 651-351-8300 or online at&nbsp\;</span><a href="https://stillwater.ce.eleyo.com/" style="box-sizing: border-box\; background-color: rgb(253\, 254\, 255)\; color: blue\; text-decoration-line: none\; -webkit-font-smoothing: antialiased\; font-family: &quot\;Google Sans&quot\;\, &quot\;Open sans&quot\;\, Muli\, Arial\, sans-serif\; font-size: 14px\; padding-bottom: 0px\; margin-bottom: 0px\; margin-top: 0px\; cursor: default\; text-align: justify\;">Home - Stillwater Community Education</a></p>\n
LOCATION:
UID:e.1884.1557
SEQUENCE:3
DTSTAMP:20260419T145157Z
URL:https://business.oakdaleareachamber.org/events/details/living-well-self-care-mindfulness-1557
END:VEVENT

END:VCALENDAR
