BEGIN:VCALENDAR
VERSION:2.0
PRODID:-//ChamberMaster//Event Calendar 2.0//EN
METHOD:PUBLISH
X-PUBLISHED-TTL:P3D
REFRESH-INTERVAL:P3D
CALSCALE:GREGORIAN
BEGIN:VEVENT
DTSTART:20251023T230000Z
DTEND:20251024T020000Z
X-MICROSOFT-CDO-ALLDAYEVENT:FALSE
SUMMARY:Make the Change: C.A.S.T.'s 6th Annual Fundraiser
DESCRIPTION:You are invited to Citizens Against Sex Trafficking's event on October 23rd\, 2025. Join us as we raise funds to protect our children and end sexual exploitation in our community.
X-ALT-DESC;FMTTYPE=text/html:<span style="font-size:12px\;"><span style="font-weight: 700\; overflow-wrap: break-word\; color: rgb(68\, 64\, 64)\; font-family: Cabin\; letter-spacing: 0.32px\; white-space-collapse: preserve\; background-color: rgb(255\, 255\, 255)\;">You are invited to Citizens Against Sex Trafficking&rsquo\;s event on October 23rd\, 2025. Join us as we raise funds to protect our children and end sexual exploitation in our community.</span></span>
LOCATION:Dellwood Country Club 29 East Highway 96 Dellwood\, MN 55110
UID:e.1884.1544
SEQUENCE:3
DTSTAMP:20260419T221352Z
URL:https://business.oakdaleareachamber.org/events/details/make-the-change-c-a-s-t-s-6th-annual-fundraiser-1544
END:VEVENT

END:VCALENDAR
