BEGIN:VCALENDAR
VERSION:2.0
PRODID:-//ChamberMaster//Event Calendar 2.0//EN
METHOD:PUBLISH
X-PUBLISHED-TTL:P3D
REFRESH-INTERVAL:P3D
CALSCALE:GREGORIAN
BEGIN:VEVENT
DTSTART:20250416T133000Z
DTEND:20250416T150000Z
X-MICROSOFT-CDO-ALLDAYEVENT:FALSE
SUMMARY:Minnesota Paid Leave Employer Engagement Session
DESCRIPTION:Starting Jan. 1\, 2026\, Minnesota Paid Leave will provide payments and job protections to Minnesotans when they need time off for some of life's most important moments   like welcoming a child\, recovering from a serious illness\, or caring for a loved one. As an employer\, you play an important role in helping your employees learn about and access the program.\n\n\n\nMinnesota Paid Leave staff are partnering with local chambers of commerce for a series of in-person engagement sessions for employers. At these sessions\, we will provide an overview of the program\, share recent updates\, answer your questions\, and help you prepare to meet your responsibilities under Paid Leave. Light refreshments will be served.
X-ALT-DESC;FMTTYPE=text/html:Starting Jan. 1\, 2026\, Minnesota Paid Leave will provide payments and job protections to Minnesotans when they need time off for some of life&rsquo\;s most important moments &ndash\; like welcoming a child\, recovering from a serious illness\, or caring for a loved one. As an employer\, you play an important role in helping your employees learn about and access the program.<br />\n<br />\nMinnesota Paid Leave staff are partnering with local chambers of commerce for a series of in-person engagement sessions for employers. At these sessions\, we will provide an overview of the program\, share recent updates\, answer your questions\, and help you prepare to meet your responsibilities under Paid Leave. Light refreshments will be served.
LOCATION:Securian Financial Club | CHS Field 360 North Broadway St. St. Paul\, MN 55101
UID:e.1884.1524
SEQUENCE:3
DTSTAMP:20260424T104521Z
URL:https://business.oakdaleareachamber.org/events/details/minnesota-paid-leave-employer-engagement-session-1524
END:VEVENT

END:VCALENDAR
