BEGIN:VCALENDAR
VERSION:2.0
PRODID:-//ChamberMaster//Event Calendar 2.0//EN
METHOD:PUBLISH
X-PUBLISHED-TTL:P3D
REFRESH-INTERVAL:P3D
CALSCALE:GREGORIAN
BEGIN:VEVENT
DTSTART:20240822T210000Z
DTEND:20240822T233000Z
X-MICROSOFT-CDO-ALLDAYEVENT:FALSE
SUMMARY:Moxie Mixer: Cocktails & Connections for Women
DESCRIPTION:Join us for an evening of great conversations\, your favorite cocktails\, and career-driven women who want to just get out and mingle. Free to attend. Cash bar available. Bring your friends. \n\n\n\nThis is a great opportunity to meet other women who are coming from all walks of life\, in corporate America\, solopreneurs\, entrepreneurs\, moms\, aunts\, sisters\, friends\, and just great humans.
X-ALT-DESC;FMTTYPE=text/html:Join us for an evening of great conversations\, your favorite cocktails\, and career-driven women who want to just get out and mingle. Free to attend. Cash bar available. Bring your friends.&nbsp\;<br />\n<br />\nThis is a great opportunity to meet other women who are coming from all walks of life\, in corporate America\, solopreneurs\, entrepreneurs\, moms\, aunts\, sisters\, friends\, and just great humans.
LOCATION:The Burrow 7053 10th Street North Oakdale\, MN 55128
UID:e.1884.1447
SEQUENCE:3
DTSTAMP:20260422T140244Z
URL:https://business.oakdaleareachamber.org/events/details/moxie-mixer-cocktails-connections-for-women-1447
END:VEVENT

END:VCALENDAR
