BEGIN:VCALENDAR
VERSION:2.0
PRODID:-//ChamberMaster//Event Calendar 2.0//EN
METHOD:PUBLISH
X-PUBLISHED-TTL:P3D
REFRESH-INTERVAL:P3D
CALSCALE:GREGORIAN
BEGIN:VEVENT
DTSTART:20160421T230000Z
DTEND:20160422T013000Z
X-MICROSOFT-CDO-ALLDAYEVENT:FALSE
SUMMARY:OACC Spring Fling
DESCRIPTION:COME & ENJOY GREAT FOOD\, WINE & BEER\, MUSIC AND CHANCES TO WIN MANY OTHER FABULOUS PRIZES!\n\nYOUR $25 TICKET WILL GAIN YOU ACCESS TO FOOD FROM OUR GREAT SPONSORS\, WINE AND BEER TASTING AND ONE ENTRY TO OUR $1\,500 CASH DRAWING.
X-ALT-DESC;FMTTYPE=text/html:<span style="font-size:26.0pt\;">COME &amp\; ENJOY </span><span style="font-size:18.0pt\;">GREAT FOOD\, WINE &amp\; BEER\, MUSIC AND CHANCES TO WIN MANY OTHER FABULOUS PRIZES!</span><br />\n<span style="font-size:11.0pt\;">YOUR $25 TICKET WILL GAIN YOU ACCESS TO FOOD FROM OUR GREAT SPONSORS\, WINE AND BEER TASTING AND ONE ENTRY TO OUR $1\,500 CASH DRAWING. </span>
LOCATION:American Legion Post 39 2678 East 7th Ave N. St. Paul\, MN
UID:e.1884.685
SEQUENCE:3
DTSTAMP:20260422T085719Z
URL:https://business.oakdaleareachamber.org/events/details/oacc-spring-fling-04-21-2016-685
END:VEVENT

END:VCALENDAR
