BEGIN:VCALENDAR
VERSION:2.0
PRODID:-//ChamberMaster//Event Calendar 2.0//EN
METHOD:PUBLISH
X-PUBLISHED-TTL:P3D
REFRESH-INTERVAL:P3D
CALSCALE:GREGORIAN
BEGIN:VEVENT
DTSTART:20241017T000000Z
DTEND:20241017T010000Z
X-MICROSOFT-CDO-ALLDAYEVENT:FALSE
SUMMARY:Oakdale City Council Candidate Forum
DESCRIPTION:The Oakdale Area Chamber of Commerce will again be hosting a candidate forum on Wednesday October 16\, 2024 @ 7:00p.m. - Oakdale City Hall.  The forum will be televised as well as pushed out post event on several social media platforms.\n\n \n\nFormat of the event will be as follows:\n\n \n\n\n	Each candidate will be given 3 minutes to provide an opening statement.  Order of those statements will be randomly generated and done prior to the event.\n	Each candidate will be given 1 minute for a closing statement.  The order of closing statements will be reverse of opening statements.\n	In between   the moderators will be asking questions as time allows of all candidates.  Candidates are asked to be concise with their answers. Questions will come from Chamber Members ahead of time\, from the live audience and from the viewing audience.  ALL questions will be screened by the moderators and hosts real time.\n	Question period will end at 8:25p.m.\n	No questions of a personal nature or anything that includes personal character attacks will be permitted   either from our audience or from fellow candidates.
X-ALT-DESC;FMTTYPE=text/html:<p data-olk-copy-source="MessageBody" style="color: rgb(0\, 0\, 0)\; font-size: 12pt\; font-family: Aptos\, sans-serif\; margin: 0px\;">The Oakdale Area Chamber of Commerce will again be hosting a candidate forum on&nbsp\;<b><u>Wednesday October 16\, 2024 @ 7:00p.m. - Oakdale City Hall</u></b>.&nbsp\; The forum will be televised as well as pushed out post event on several social media platforms.</p>\n\n<p aria-hidden="true" style="color: rgb(0\, 0\, 0)\; font-size: 12pt\; font-family: Aptos\, sans-serif\; margin: 0px\;">&nbsp\;</p>\n\n<p style="color: rgb(0\, 0\, 0)\; font-size: 12pt\; font-family: Aptos\, sans-serif\; margin: 0px\;">Format of the event will be as follows:</p>\n\n<p aria-hidden="true" style="color: rgb(0\, 0\, 0)\; font-size: 12pt\; font-family: Aptos\, sans-serif\; margin: 0px\;">&nbsp\;</p>\n\n<ol start="1" style="color: rgb(0\, 0\, 0)\; font-family: &quot\;Segoe UI&quot\;\, &quot\;Segoe UI Web (West European)&quot\;\, &quot\;Segoe UI&quot\;\, -apple-system\, BlinkMacSystemFont\, Roboto\, &quot\;Helvetica Neue&quot\;\, sans-serif\; font-size: 15px\; margin-top: 0px\; margin-bottom: 0px\;" type="1">\n	<li style="font-size: 12pt\; font-family: Aptos\, sans-serif\; margin: 0px\;">Each candidate will be given&nbsp\;<b><i>3 minutes to provide an opening statement</i></b>.&nbsp\; Order of those statements will be randomly generated and done prior to the event.</li>\n	<li style="font-size: 12pt\; font-family: Aptos\, sans-serif\; margin: 0px\;">Each candidate will be given&nbsp\;<b><i>1 minute for a closing statement</i></b>.&nbsp\; The order of closing statements will be reverse of opening statements.</li>\n	<li style="font-size: 12pt\; font-family: Aptos\, sans-serif\; margin: 0px\;">In between &ndash\; the moderators will be asking questions as time allows of all candidates.&nbsp\; Candidates are asked to be concise with their answers. Questions will come from Chamber Members ahead of time\, from the live audience and from the viewing audience.&nbsp\; ALL questions will be screened by the moderators and hosts real time.</li>\n	<li style="font-size: 12pt\; font-family: Aptos\, sans-serif\; margin: 0px\;">Question period will end at 8:25p.m.</li>\n	<li style="font-size: 12pt\; font-family: Aptos\, sans-serif\; margin: 0px\;">No questions of a personal nature or anything that includes personal character attacks will be permitted &ndash\; either from our audience or from fellow candidates.</li>\n</ol>\n\n<div style="font-size: 12pt\; font-family: Aptos\, sans-serif\; margin: 0px\;"><br />\n&nbsp\;</div>\n
LOCATION:Oakdale City Hall 1584 Hadley Ave N\, Oakdale\, MN 55128
UID:e.1884.1457
SEQUENCE:3
DTSTAMP:20260422T122659Z
URL:https://business.oakdaleareachamber.org/events/details/oakdale-city-council-candidate-forum-1457
END:VEVENT

END:VCALENDAR
