BEGIN:VCALENDAR
VERSION:2.0
PRODID:-//ChamberMaster//Event Calendar 2.0//EN
METHOD:PUBLISH
X-PUBLISHED-TTL:P3D
REFRESH-INTERVAL:P3D
CALSCALE:GREGORIAN
BEGIN:VEVENT
DTSTART:20250724T200000Z
DTEND:20250724T230000Z
X-MICROSOFT-CDO-ALLDAYEVENT:FALSE
SUMMARY:Ribbon Cutting/Happy Hour Who's Got Your Limo
DESCRIPTION:Come join us to celebrate Marcus Laskowski\, owner of "Who's Got Your Mortgage?"\, as he just announced his newest venture\, "Who's Got Your Limo?"\n\nWhen clients close on a home\, he wanted it to be memorable\, special\, & exciting - which is why he started Who's Got Your Limo - to pick clients up on closing day & help them celebrate their special day in style.\n\nWe will meet at Bierstube in Oakdale\, do a quick ribbon cutting & photo\, & then use the remainder of the time to do 10-15 minute limo rides\, as the rest of the crew networks inside!\n\nMark your calendars\, bring a friend\, & expect to end your Thursday in Oakdale with a touch of luxury & fun!
X-ALT-DESC;FMTTYPE=text/html:<div class="xdj266r x14z9mp xat24cr x1lziwak x1vvkbs" style="margin: 0px\; overflow-wrap: break-word\; font-family: system-ui\, -apple-system\, &quot\;system-ui&quot\;\, &quot\;.SFNSText-Regular&quot\;\, sans-serif\; color: rgb(8\, 8\, 9)\; font-size: 15px\;">Come join us to celebrate Marcus Laskowski\, owner of &ldquo\;Who&rsquo\;s Got Your Mortgage?&rdquo\;\, as he just announced his newest venture\, &ldquo\;Who&rsquo\;s Got Your Limo?&rdquo\;</div>\n\n<div class="x14z9mp xat24cr x1lziwak x1vvkbs xtlvy1s" style="margin: 0.5em 0px 0px\; overflow-wrap: break-word\; font-family: system-ui\, -apple-system\, &quot\;system-ui&quot\;\, &quot\;.SFNSText-Regular&quot\;\, sans-serif\; color: rgb(8\, 8\, 9)\; font-size: 15px\;">When clients close on a home\, he wanted it to be memorable\, special\, &amp\; exciting - which is why he started Who&rsquo\;s Got Your Limo - to pick clients up on closing day &amp\; help them celebrate their special day in style.</div>\n\n<div class="x14z9mp xat24cr x1lziwak x1vvkbs xtlvy1s" style="margin: 0.5em 0px 0px\; overflow-wrap: break-word\; font-family: system-ui\, -apple-system\, &quot\;system-ui&quot\;\, &quot\;.SFNSText-Regular&quot\;\, sans-serif\; color: rgb(8\, 8\, 9)\; font-size: 15px\;">We will meet at Bierstube in Oakdale\, do a quick ribbon cutting &amp\; photo\, &amp\; then use the remainder of the time to do 10-15 minute limo rides\, as the rest of the crew networks inside!</div>\n\n<div class="x14z9mp xat24cr x1lziwak x1vvkbs xtlvy1s" style="margin: 0.5em 0px 0px\; overflow-wrap: break-word\; font-family: system-ui\, -apple-system\, &quot\;system-ui&quot\;\, &quot\;.SFNSText-Regular&quot\;\, sans-serif\; color: rgb(8\, 8\, 9)\; font-size: 15px\;">Mark your calendars\, bring a friend\, &amp\; expect to end your Thursday in Oakdale with a touch of luxury &amp\; fun!</div>\n
LOCATION:JW Bierstube 7121 10th Street North Oakdale\, MN 55082
UID:e.1884.1537
SEQUENCE:3
DTSTAMP:20260419T151529Z
URL:https://business.oakdaleareachamber.org/events/details/ribbon-cutting-happy-hour-who-s-got-your-limo-1537
END:VEVENT

END:VCALENDAR
