BEGIN:VCALENDAR
VERSION:2.0
PRODID:-//ChamberMaster//Event Calendar 2.0//EN
METHOD:PUBLISH
X-PUBLISHED-TTL:P3D
REFRESH-INTERVAL:P3D
CALSCALE:GREGORIAN
BEGIN:VEVENT
DTSTART:20240208T140000Z
DTEND:20240208T153000Z
X-MICROSOFT-CDO-ALLDAYEVENT:FALSE
SUMMARY:Small Business Owner Peer Board
DESCRIPTION:As a business owner\, you likely know everything there is to know about your industry\, but you get mired down in the how-to of running and growing a successful company. Your expertise is foundational\, but developing business knowledge and acumen are the keys to success.\n\nWhy not carve some time out of your busy day to learn how joining a TAB Board will teach you to do things better. More efficiently. More profitably. More timely. \n\nA TAB Board will help transform you into not just a business owner\, but truly a business leader. And in an environment where everyone is rooting for you and the success of your business. \n\nTalk about a gamechanger.\n\nAs a TAB Board Member\, you learn to be better at getting things done: \n\n\n	\n	Waste less time and execute more efficiently in your business.\n	\n	\n	Improve your acumen in every facet of your business.\n	\n	\n	Build a vision and executable strategy for long-term success.\n	\n\n\nWhy not carve out just a little bit of your time this month to experience our complimentary Taste of TAB.\n\nI am starting two peer advisory boards\n\n\n	"Accelerator Board" comprised of companies with annual revenue less than $400K\n	Traditional board with companies between $500K and $10 million.\n\n\nI am also looking for 2-3 business owners to add to an existing board of larger companies\, those with annual revenues over $5 million.\n\nTry TAB: Sample Board Meeting (Choose one to attend)\n\nVenue Name: Woodbury Chamber of Commerce\, Suite 145\, Woodbury\, MN 55125\n\nTime 8:00am to 9:30am\n\nThursday\, February 8th\n\nRegister Here: Feb. 8th Registration\n\n \n\nWednesday\, February 14th\n\nRegister Here: Feb. 14th Registration\n\nYou must be a business owner\, President or CEO to attend our Taste of TAB. Space is very limited\, so register now.\n\nIf these days/times do not work for you\, but you're still interested in learning more\, please call or email me to schedule a meeting. ( www.calendly.com/peterquayle )\n\nTAB Boards. Find out what all the talk's about.
X-ALT-DESC;FMTTYPE=text/html:<p><span style="background-color:transparent\; color:rgb(0\, 0\, 0)\; font-family:calibri\,sans-serif\; font-size:11pt">As a business owner\, you likely know everything there is to know about your industry\, but you get mired down in the how-to of running and growing a successful company. Your expertise is foundational\, but developing business knowledge and acumen are the keys to success.</span></p>\n\n<p><span style="background-color:transparent\; color:rgb(0\, 0\, 0)\; font-family:calibri\,sans-serif\; font-size:11pt">Why not carve some time out of your busy day to learn how joining a TAB Board will teach you to do things better. More efficiently. More profitably. More timely.&nbsp\;</span></p>\n\n<p><em>A TAB Board will help transform you into not just a business owner\,</em><span style="background-color:transparent\; color:rgb(0\, 0\, 0)\; font-family:calibri\,sans-serif\; font-size:11pt">&nbsp\;</span><em>but truly a business leader.&nbsp\;</em><span style="background-color:transparent\; color:rgb(0\, 0\, 0)\; font-family:calibri\,sans-serif\; font-size:11pt">And in an environment where everyone is rooting for you and the success of your business.&nbsp\;</span></p>\n\n<p><span style="background-color:transparent\; color:rgb(0\, 0\, 0)\; font-family:calibri\,sans-serif\; font-size:11pt">Talk about a gamechanger.</span></p>\n\n<p><strong>As a TAB Board Member\, you learn to be better at getting things done:&nbsp\;</strong></p>\n\n<ul>\n	<li>\n	<p><span style="background-color:transparent\; font-family:calibri\,sans-serif\; font-size:11pt">Waste less time and execute more efficiently in your business.</span></p>\n	</li>\n	<li>\n	<p><span style="background-color:transparent\; font-family:calibri\,sans-serif\; font-size:11pt">Improve your acumen in every facet of your business.</span></p>\n	</li>\n	<li>\n	<p><span style="background-color:transparent\; font-family:calibri\,sans-serif\; font-size:11pt">Build a vision and executable strategy for long-term success.</span></p>\n	</li>\n</ul>\n\n<p><span style="background-color:transparent\; color:rgb(0\, 0\, 0)\; font-family:calibri\,sans-serif\; font-size:11pt">Why not carve out just a little bit of your time this month to experience our complimentary Taste of TAB.</span></p>\n\n<p><span style="background-color:transparent\; color:rgb(0\, 0\, 0)\; font-family:calibri\,sans-serif\; font-size:11pt">I am starting two peer advisory boards</span></p>\n\n<ul>\n	<li><span style="background-color:transparent\; color:rgb(0\, 0\, 0)\; font-family:calibri\,sans-serif\; font-size:11pt">&quot\;Accelerator Board&quot\;&nbsp\;</span>comprised<span style="background-color:transparent\; color:rgb(0\, 0\, 0)\; font-family:calibri\,sans-serif\; font-size:11pt">&nbsp\;of companies with annual revenue less than $400K</span></li>\n	<li><span style="background-color:transparent\; color:rgb(0\, 0\, 0)\; font-family:calibri\,sans-serif\; font-size:11pt">Traditional board with companies between $500K and $10 million.</span></li>\n</ul>\n\n<p><span style="background-color:transparent\; color:rgb(0\, 0\, 0)\; font-family:calibri\,sans-serif\; font-size:11pt">I am also looking for 2-3 business owners to add to an existing board of larger companies\, those with annual revenues over $5 million.</span></p>\n\n<p><strong>Try TAB: Sample Board Meeting (Choose one to attend)</strong></p>\n\n<p><span style="background-color:transparent\; color:rgb(0\, 0\, 0)\; font-family:calibri\,sans-serif\; font-size:11pt">Venue Name: Woodbury Chamber of Commerce\, Suite 145\, Woodbury\, MN 55125</span></p>\n\n<p><span style="background-color:transparent\; color:rgb(0\, 0\, 0)\; font-family:calibri\,sans-serif\; font-size:11pt">Time 8:00am to 9:30am</span></p>\n\n<p><span style="background-color:transparent\; color:rgb(0\, 0\, 0)\; font-family:calibri\,sans-serif\; font-size:11pt"><strong>Thursday\, February 8th</strong></span></p>\n\n<p><span style="background-color:transparent\; color:rgb(0\, 0\, 0)\; font-family:calibri\,sans-serif\; font-size:11pt">Register Here:&nbsp\;</span><a href="https://www.eventbrite.com/e/807973710117?aff=oddtdtcreator" style="color: rgb(17\, 85\, 204)\; font-family: Calibri\, sans-serif\; font-size: 14.6667px\;" target="_blank">Feb. 8th Registration</a></p>\n\n<p>&nbsp\;</p>\n\n<p><span style="background-color:transparent\; color:rgb(0\, 0\, 0)\; font-family:calibri\,sans-serif\; font-size:11pt"><strong>Wednesday\, February 14th</strong></span></p>\n\n<p><span style="background-color:transparent\; color:rgb(0\, 0\, 0)\; font-family:calibri\,sans-serif\; font-size:11pt">Register Here:&nbsp\;<a href="https://www.eventbrite.com/e/808010831147?aff=oddtdtcreator" style="color: rgb(17\, 85\, 204)\;" target="_blank">Feb. 14th Registration</a></span></p>\n\n<p><span style="background-color:transparent\; color:rgb(0\, 0\, 0)\; font-family:calibri\,sans-serif\; font-size:11pt">You must be a business owner\, President or CEO to attend our Taste of TAB. Space is very limited\, so register now.</span></p>\n\n<p><span style="background-color:transparent\; color:rgb(0\, 0\, 0)\; font-family:calibri\,sans-serif\; font-size:11pt"><strong><em>If these days/times do not work for you\, but you&#39\;re still interested in learning more\, please call or email me to schedule a meeting. (&nbsp\;<a href="http://www.calendly.com/peterquayle" style="color: rgb(17\, 85\, 204)\;" target="_blank">www.calendly.com/peterquayle</a>&nbsp\;)</em></strong></span></p>\n\n<p><span style="background-color:transparent\; color:rgb(0\, 0\, 0)\; font-family:calibri\,sans-serif\; font-size:11pt">TAB Boards. Find out what all the talk&rsquo\;s about.</span></p>\n
LOCATION:Woodbury Chamber of Commerce\, 700 Commerce Drive\, Suite 145\, Woodbury\, MN 55125
UID:e.1884.1428
SEQUENCE:3
DTSTAMP:20260420T131440Z
URL:https://business.oakdaleareachamber.org/events/details/small-business-owner-peer-board-1428
END:VEVENT

END:VCALENDAR
