BEGIN:VCALENDAR
VERSION:2.0
PRODID:-//ChamberMaster//Event Calendar 2.0//EN
METHOD:PUBLISH
X-PUBLISHED-TTL:P3D
REFRESH-INTERVAL:P3D
CALSCALE:GREGORIAN
BEGIN:VEVENT
DTSTART:20250920T160000Z
DTEND:20250920T190000Z
X-MICROSOFT-CDO-ALLDAYEVENT:FALSE
SUMMARY:Tartan High School Homecoming & Ribbon Cutting
DESCRIPTION:Building Tours: 11am\, 11:30am\, 12pm\, 12:30pm\n\nFood Trucks: 11am - 1pm\n\nCarnival: 11am - 1pm\n\nRibbon Cutting: 1pm REGISTER\n\nThe Game: 2pm
X-ALT-DESC;FMTTYPE=text/html:Building Tours: 11am\, 11:30am\, 12pm\, 12:30pm<br />\nFood Trucks: 11am - 1pm<br />\nCarnival: 11am - 1pm<br />\nRibbon Cutting: 1pm <a href="https://docs.google.com/forms/d/e/1FAIpQLSdrCuoF_PSiK-j6FdnuLWOajXyFDyI4Jfhc-cc8ICRp-h5gnw/viewform">REGISTER</a><br />\nThe Game: 2pm
LOCATION:Tartan High School 828 Greenway Ave. North Oakdale\, MN 55128
UID:e.1884.1546
SEQUENCE:3
DTSTAMP:20260421T101352Z
URL:https://business.oakdaleareachamber.org/events/details/tartan-high-school-homecoming-ribbon-cutting-1546
END:VEVENT

END:VCALENDAR
