BEGIN:VCALENDAR
VERSION:2.0
PRODID:-//ChamberMaster//Event Calendar 2.0//EN
METHOD:PUBLISH
X-PUBLISHED-TTL:P3D
REFRESH-INTERVAL:P3D
CALSCALE:GREGORIAN
BEGIN:VEVENT
DTSTART:20260223T163000Z
DTEND:20260223T180000Z
X-MICROSOFT-CDO-ALLDAYEVENT:FALSE
SUMMARY:Understanding Power of Attorney & Health Care Directives
DESCRIPTION:Join us at Community Thread for an informative session on the essentials of Power of Attorney and Health Care Directives what they are\, why they matter\, and how to ensure your wishes are clearly documented. Take this opportunity to learn\, ask questions\, and feel confident about planning for the future?. \n\n\n\nLed by Susannah Torseth\, Attorney at Law at Galowitz\, Olson PLLC\n\n\n\nFREE & OPEN TO ALL. Pre-registration encouraged. Call 651-439-7434 to register.
X-ALT-DESC;FMTTYPE=text/html:<span style="background-color:rgb(253\, 254\, 255)\; font-family:google sans\,open sans\,muli\,arial\,sans-serif\; font-size:14px">Join us at Community Thread for an informative session on the essentials of Power of Attorney and Health Care Directives&mdash\;what they are\, why they matter\, and how to ensure your wishes are clearly documented. Take this opportunity to learn\, ask questions\, and feel confident about planning for the future?.&nbsp\;<br />\n<br />\nLed by&nbsp\;Susannah Torseth\, Attorney at Law at Galowitz\, Olson PLLC<br />\n<br />\nFREE &amp\; OPEN TO ALL. Pre-registration encouraged. Call 651-439-7434 to register.&nbsp\;</span>
LOCATION:2300 Orleans St W Stillwater\, MN 55082
UID:e.1884.1568
SEQUENCE:3
DTSTAMP:20260421T084800Z
URL:https://business.oakdaleareachamber.org/events/details/understanding-power-of-attorney-health-care-directives-1568
END:VEVENT

END:VCALENDAR
