BEGIN:VCALENDAR
VERSION:2.0
PRODID:-//ChamberMaster//Event Calendar 2.0//EN
METHOD:PUBLISH
X-PUBLISHED-TTL:P3D
REFRESH-INTERVAL:P3D
CALSCALE:GREGORIAN
BEGIN:VEVENT
DTSTART:20241107T130000Z
DTEND:20241107T150000Z
X-MICROSOFT-CDO-ALLDAYEVENT:FALSE
SUMMARY:Veterans Day Celebrations & Prayer Breakfast
DESCRIPTION:Keynote Speaker:\n\nDr. David Horsager\n\n\n\nDr. David Horsager is CEO of Trust Edge Leadership Institute\, inventor of the Enterprise Trust Index \, director of global study\, the Trust Outlook \, Wall Street Journal bestselling author of four books\, and senior fellow at Indiana Wesleyan University. He has advised leaders and shared his framework with organizations ranging from Delta Airlines\, McDonald's\, and FedEx to the New York Yankees\, Walmart\, MIT\, and global governments
X-ALT-DESC;FMTTYPE=text/html:Keynote Speaker:<br />\nDr. David Horsager<br />\n<br />\nDr. David Horsager is CEO of Trust Edge Leadership Institute\, inventor of the Enterprise Trust Index&trade\;\, director of global study\, the Trust Outlook&reg\;\, Wall Street Journal bestselling author of four books\, and senior fellow at Indiana Wesleyan University. He has advised leaders and shared his framework with organizations ranging from Delta Airlines\, McDonald&rsquo\;s\, and FedEx to the New York Yankees\, Walmart\, MIT\, and global governments
LOCATION:Inwood Oaks 484 Inwood Avenue\, Oakdale MN
UID:e.1884.1451
SEQUENCE:3
DTSTAMP:20260423T222252Z
URL:https://business.oakdaleareachamber.org/events/details/veterans-day-celebrations-prayer-breakfast-1451
END:VEVENT

END:VCALENDAR
