BEGIN:VCALENDAR
VERSION:2.0
PRODID:-//ChamberMaster//Event Calendar 2.0//EN
METHOD:PUBLISH
X-PUBLISHED-TTL:P3D
REFRESH-INTERVAL:P3D
CALSCALE:GREGORIAN
BEGIN:VEVENT
DTSTART:20241212T230000Z
DTEND:20241213T010000Z
X-MICROSOFT-CDO-ALLDAYEVENT:FALSE
SUMMARY:Young Professionals Holiday Party
DESCRIPTION:Join us for our annual Young Professionals Holiday Party at Camp Bar & Cabaret in downtown St. Paul. This will be a fun and casual event to get in the holiday spirit and meet our 2025 Young Professionals Committee. We will be playing Drag Bingo hosted by Sasha Cassadine with the chance to win amazing prizes from our member organizations! Make sure to wear your favorite ugly holiday sweater if you would like to compete in our Ugly Holiday Sweater competition. We can't wait to celebrate the holiday season and the end to a great year of YPro with you!\n\nLight appetizers are included with registration\, and we will have a cash bar. \n\nPrizes include MN Wild tickets\, Ordway musical tickets\, St. Paul Saints game tickets\, and more!\n\nProgram:\n\n\n	5:00 - Registration and enjoy appetizers\n	5:30 - Drag Bingo with Sasha Cassadine\n	6:30 - Ugly Holiday Sweater Contest\n	6:40 - Brief program\n	7:00 - Event ends\n\n\n\n\nTickets:\n\n$30 - Members | $40 - Nonmembers\n\nAre you interested in learning more about our Young Professionals programming? Check us out!
X-ALT-DESC;FMTTYPE=text/html:<p style="margin: 0px auto 30px\; padding: 0px\; font-family: Nunito\, sans-serif\; font-size: 16px\; color: rgb(0\, 0\, 0)\; line-height: 23px !important\;"><span style="font-family: Arial\, Helvetica\, sans-serif\;">Join us for our annual Young Professionals Holiday Party at&nbsp\;<a href="https://camp-bar.net/" style="color: inherit\; font-weight: 600\; transition: opacity 300ms ease-in-out\;">Camp Bar &amp\; Cabaret&nbsp\;</a>in downtown St. Paul. This will be a fun and casual event to get in the holiday spirit and meet our 2025 Young Professionals Committee. We will be playing Drag Bingo hosted by&nbsp\;<a href="https://www.instagram.com/sashacassadine/?hl=en" style="color: inherit\; font-weight: 600\; transition: opacity 300ms ease-in-out\;">Sasha Cassadine</a>&nbsp\;with the chance to win amazing prizes from our member organizations! Make sure to wear your favorite ugly holiday sweater if you would like to compete in our Ugly Holiday Sweater competition. We can&#39\;t wait to celebrate the holiday season and the end to a great year of YPro with you!</span></p>\n\n<p style="margin: 0px auto 30px\; padding: 0px\; font-family: Nunito\, sans-serif\; font-size: 16px\; color: rgb(0\, 0\, 0)\; line-height: 23px !important\;"><span style="font-family: Arial\, Helvetica\, sans-serif\;">Light appetizers are included with registration\, and we will have a cash bar.&nbsp\;</span></p>\n\n<p style="margin: 0px auto 30px\; padding: 0px\; font-family: Nunito\, sans-serif\; font-size: 16px\; color: rgb(0\, 0\, 0)\; line-height: 23px !important\;"><span style="font-family: Arial\, Helvetica\, sans-serif\;">Prizes include MN Wild tickets\, Ordway musical tickets\, St. Paul Saints game tickets\, and more!</span></p>\n\n<p style="margin: 0px auto 30px\; padding: 0px\; font-family: Nunito\, sans-serif\; font-size: 16px\; color: rgb(0\, 0\, 0)\; line-height: 23px !important\;"><span style="font-family: Arial\, Helvetica\, sans-serif\;"><b>Program:</b></span></p>\n\n<ul style="margin: 0px\; padding-right: 0px\; padding-left: 0px\; list-style-type: none\; color: rgb(0\, 0\, 0)\; font-family: Nunito\, sans-serif\; font-size: 16px\;">\n	<li style="margin: 0px\; padding: 0px\;"><span style="font-family: Arial\, Helvetica\, sans-serif\;"><b>5:00 -</b>&nbsp\;Registration and enjoy appetizers</span></li>\n	<li style="margin: 0px\; padding: 0px\;"><span style="font-family: Arial\, Helvetica\, sans-serif\;"><strong>5:30 -</strong>&nbsp\;Drag Bingo with Sasha Cassadine</span></li>\n	<li style="margin: 0px\; padding: 0px\;"><span style="font-family: Arial\, Helvetica\, sans-serif\;"><strong>6:30 -&nbsp\;</strong>Ugly Holiday Sweater Contest</span></li>\n	<li style="margin: 0px\; padding: 0px\;"><span style="font-family: Arial\, Helvetica\, sans-serif\;"><strong>6:40 -</strong>&nbsp\;Brief program</span></li>\n	<li style="margin: 0px\; padding: 0px\;"><span style="font-family: Arial\, Helvetica\, sans-serif\;"><strong>7:00 -</strong>&nbsp\;Event ends</span></li>\n</ul>\n\n<p style="margin: 0px auto 30px\; padding: 0px\; font-family: Nunito\, sans-serif\; font-size: 16px\; color: rgb(0\, 0\, 0)\; line-height: 23px !important\;"><br />\n<span style="font-family: Arial\, Helvetica\, sans-serif\;"><b>Tickets:</b></span></p>\n\n<p style="margin: 0px auto 30px\; padding: 0px\; font-family: Nunito\, sans-serif\; font-size: 16px\; color: rgb(0\, 0\, 0)\; line-height: 23px !important\;"><span style="font-family: Arial\, Helvetica\, sans-serif\;">$30 - Members | $40 - Nonmembers</span></p>\n\n<p style="margin: 0px auto 30px\; padding: 0px\; font-family: Nunito\, sans-serif\; font-size: 16px\; color: rgb(0\, 0\, 0)\; line-height: 23px !important\;"><span style="font-family: Arial\, Helvetica\, sans-serif\;">Are you interested in learning more about our Young Professionals programming?&nbsp\;<a data-auth="NotApplicable" data-linkindex="0" href="https://www.stpaulchamber.com/young-professionals.html" rel="noopener noreferrer" style="color: inherit\; font-weight: 600\; transition: opacity 300ms ease-in-out\;" target="_blank">Check us out!</a></span></p>\n
LOCATION:Camp Bar and Cabaret 490 Robert St N\, St Paul\, MN 55101
UID:e.1884.1463
SEQUENCE:3
DTSTAMP:20260425T195212Z
URL:https://business.oakdaleareachamber.org/events/details/young-professionals-holiday-party-1463
END:VEVENT

END:VCALENDAR
